BEGIN:VCALENDAR
VERSION:2.0
PRODID:SchoolNow
CALSCALE:GREGORIAN
BEGIN:VEVENT
UID:ab5321d0-309e-11ee-93f9-0ebbad7de425
DTSTAMP:20240426T173442Z
SUMMARY:Elementary School Report Cards (6-26-24)
URL;VALUE=URI:https://www.liverpool.k12.ny.us/calendar/4537877/elementary-s
 chool-report-cards-6-26-24
DTSTART;VALUE=DATE:20240626
DTEND;VALUE=DATE:20240627
END:VEVENT
END:VCALENDAR
