BEGIN:VCALENDAR
VERSION:2.0
PRODID:SchoolNow
CALSCALE:GREGORIAN
BEGIN:VEVENT
UID:d8439206-309e-11ee-87ee-0e10657fc093
DTSTAMP:20230925T175507Z
SUMMARY:Middle School Report Cards (11-10-23)
URL;VALUE=URI:https://www.liverpool.k12.ny.us/calendar/4537886/middle-schoo
 l-report-cards-11-3-23
DTSTART;VALUE=DATE:20231110
DTEND;VALUE=DATE:20231111
END:VEVENT
END:VCALENDAR
