BEGIN:VCALENDAR
VERSION:2.0
PRODID:SchoolNow
CALSCALE:GREGORIAN
BEGIN:VEVENT
UID:1f60f188-309f-11ee-bc97-0a58a9feac02
DTSTAMP:20230925T175522Z
SUMMARY:Middle School Report Cards (1-12-24)
URL;VALUE=URI:https://www.liverpool.k12.ny.us/calendar/4537891/middle-schoo
 l-report-cards-1-5-24
DTSTART;VALUE=DATE:20240112
DTEND;VALUE=DATE:20240113
END:VEVENT
END:VCALENDAR
