BEGIN:VCALENDAR
VERSION:2.0
PRODID:SchoolNow
CALSCALE:GREGORIAN
BEGIN:VEVENT
UID:51b6c1da-309f-11ee-bc61-02aa4284d8bb
DTSTAMP:20230925T175540Z
SUMMARY:Middle School Report Cards (3-15-24)
URL;VALUE=URI:https://www.liverpool.k12.ny.us/calendar/4537897/middle-schoo
 l-report-cards-3-8-24
DTSTART;VALUE=DATE:20240315
DTEND;VALUE=DATE:20240316
END:VEVENT
END:VCALENDAR
