BEGIN:VCALENDAR
VERSION:2.0
PRODID:SchoolNow
CALSCALE:GREGORIAN
BEGIN:VEVENT
UID:b234c5fc-309f-11ee-8b01-0a58a9feac02
DTSTAMP:20240620T154635Z
SUMMARY:Middle School Report Cards (7-3-24)
URL;VALUE=URI:https://www.liverpool.k12.ny.us/calendar/4537907/middle-schoo
 l-report-cards-6-28-24
DTSTART:20240703T191400Z
DTEND:20240703T201400Z
END:VEVENT
END:VCALENDAR
