BEGIN:VCALENDAR
VERSION:2.0
PRODID:SchoolNow
CALSCALE:GREGORIAN
BEGIN:VEVENT
UID:05272be2-30a0-11ee-a74c-0e10657fc093
DTSTAMP:20230801T191713Z
SUMMARY:High School Progress Reports (12-22-23)
URL;VALUE=URI:https://www.liverpool.k12.ny.us/calendar/4537915/high-school-
 progress-reports-12-22-23
DTSTART:20231222T201600Z
DTEND:20231222T211600Z
END:VEVENT
END:VCALENDAR
