BEGIN:VCALENDAR
VERSION:2.0
PRODID:SchoolNow
CALSCALE:GREGORIAN
BEGIN:VEVENT
UID:22bb8220-30a0-11ee-a819-0e10657fc093
DTSTAMP:20230801T191803Z
SUMMARY:High School Progress Reports (3-15-24)
URL;VALUE=URI:https://www.liverpool.k12.ny.us/calendar/4537917/high-school-
 progress-reports-3-15-24
DTSTART:20240315T191700Z
DTEND:20240315T201700Z
END:VEVENT
END:VCALENDAR
