BEGIN:VCALENDAR
VERSION:2.0
PRODID:SchoolNow
CALSCALE:GREGORIAN
BEGIN:VEVENT
UID:5807169c-30a0-11ee-99f9-0a58a9feac02
DTSTAMP:20230801T191932Z
SUMMARY:High School Progress Reports (5-31-24)
URL;VALUE=URI:https://www.liverpool.k12.ny.us/calendar/4537919/high-school-
 progress-reports-5-31-24
DTSTART:20240531T191900Z
DTEND:20240531T201900Z
END:VEVENT
END:VCALENDAR
