BEGIN:VCALENDAR
VERSION:2.0
PRODID:SchoolNow
CALSCALE:GREGORIAN
BEGIN:VEVENT
UID:77b309a6-30a0-11ee-ab0c-0e10657fc093
DTSTAMP:20230801T192025Z
SUMMARY:High School Report Cards (11-17-23)
URL;VALUE=URI:https://www.liverpool.k12.ny.us/calendar/4537921/high-school-
 report-cards-11-17-23
DTSTART:20231117T201900Z
DTEND:20231117T211900Z
END:VEVENT
END:VCALENDAR
