BEGIN:VCALENDAR
VERSION:2.0
PRODID:SchoolNow
CALSCALE:GREGORIAN
BEGIN:VEVENT
UID:8fd7866a-30a0-11ee-b75e-02aa4284d8bb
DTSTAMP:20230801T192106Z
SUMMARY:High School Report Cards (2-2-24)
URL;VALUE=URI:https://www.liverpool.k12.ny.us/calendar/4537922/high-school-
 report-cards-2-2-24
DTSTART:20240202T202000Z
DTEND:20240202T212000Z
END:VEVENT
END:VCALENDAR
