BEGIN:VCALENDAR
VERSION:2.0
PRODID:SchoolNow
CALSCALE:GREGORIAN
BEGIN:VEVENT
UID:af60fd18-30a0-11ee-acb1-02269a395989
DTSTAMP:20230801T192159Z
SUMMARY:High School Report Cards (4-19-24)
URL;VALUE=URI:https://www.liverpool.k12.ny.us/calendar/4537924/high-school-
 report-cards-4-19-24
DTSTART:20240419T192100Z
DTEND:20240419T202100Z
END:VEVENT
END:VCALENDAR
