BEGIN:VCALENDAR
VERSION:2.0
PRODID:SchoolNow
CALSCALE:GREGORIAN
BEGIN:VEVENT
UID:ce7b7b24-30a0-11ee-b087-0a58a9feac02
DTSTAMP:20230801T192251Z
SUMMARY:High School Report Cards (7-3-24)
URL;VALUE=URI:https://www.liverpool.k12.ny.us/calendar/4537926/high-school-
 report-cards-7-3-24
DTSTART:20240703T192200Z
DTEND:20240703T202200Z
END:VEVENT
END:VCALENDAR
