BEGIN:VCALENDAR
VERSION:2.0
PRODID:SchoolNow
CALSCALE:GREGORIAN
BEGIN:VEVENT
UID:0bc773d0-4cc5-11ee-b432-0a58a9feac02
DTSTAMP:20230906T145248Z
SUMMARY:Policy Committee Meeting
LOCATION:District Office - Superintendent's Conference Room
URL;VALUE=URI:https://www.liverpool.k12.ny.us/calendar/4689745/policy-commi
 ttee-meeting
DTSTART:20231005T200000Z
DTEND:20231005T220000Z
END:VEVENT
END:VCALENDAR
