BEGIN:VCALENDAR
VERSION:2.0
PRODID:SchoolNow
CALSCALE:GREGORIAN
BEGIN:VEVENT
UID:ad5f2e48-50af-11ee-aefe-0a58a9feac02
DTSTAMP:20230911T142955Z
SUMMARY:Audit Committee Meeting (9-14-23)
LOCATION:District Office Board Room
URL;VALUE=URI:https://www.liverpool.k12.ny.us/calendar/4715028/audit-commit
 tee-meeting-9-14-23
DTSTART:20230914T120000Z
DTEND:20230914T130000Z
END:VEVENT
END:VCALENDAR
