BEGIN:VCALENDAR
VERSION:2.0
PRODID:SchoolNow
CALSCALE:GREGORIAN
BEGIN:VEVENT
UID:0513d3a0-53e4-11ee-af58-0a959632f283
DTSTAMP:20230915T162209Z
SUMMARY:Audit Committee Meeting (12-7-23)
LOCATION:District Office
URL;VALUE=URI:https://www.liverpool.k12.ny.us/calendar/4741477/audit-commit
 tee-meeting-12-7-23
DTSTART:20231207T130000Z
DTEND:20231207T140000Z
END:VEVENT
END:VCALENDAR
