BEGIN:VCALENDAR
VERSION:2.0
PRODID:SchoolNow
CALSCALE:GREGORIAN
BEGIN:VEVENT
UID:3f08761a-53e4-11ee-881c-0292f1505fe5
DTSTAMP:20230915T162347Z
SUMMARY:Audit Committee Meeting (6-13-24)
LOCATION:District Office
URL;VALUE=URI:https://www.liverpool.k12.ny.us/calendar/4741479/audit-commit
 tee-meeting-6-13-24
DTSTART:20240613T120000Z
DTEND:20240613T130000Z
END:VEVENT
END:VCALENDAR
