BEGIN:VCALENDAR
VERSION:2.0
PRODID:SchoolNow
CALSCALE:GREGORIAN
BEGIN:VEVENT
UID:b995db1e-53e6-11ee-86df-0ea8776c1f05
DTSTAMP:20230915T164131Z
SUMMARY:Liverpool High School - Early Dismissal (10-31-23)
URL;VALUE=URI:https://www.liverpool.k12.ny.us/calendar/4741516/liverpool-hi
 gh-school-early-dismissal-10-31-23
DTSTART;VALUE=DATE:20231031
DTEND;VALUE=DATE:20231101
END:VEVENT
END:VCALENDAR
