BEGIN:VCALENDAR
VERSION:2.0
PRODID:SchoolNow
CALSCALE:GREGORIAN
BEGIN:VEVENT
UID:c87e7cee-53e6-11ee-b400-0ae2a935c3d5
DTSTAMP:20230915T164156Z
SUMMARY:Liverpool High School - Early Dismissal (12-7-23)
URL;VALUE=URI:https://www.liverpool.k12.ny.us/calendar/4741517/liverpool-hi
 gh-school-early-dismissal-12-7-23
DTSTART;VALUE=DATE:20231207
DTEND;VALUE=DATE:20231208
END:VEVENT
END:VCALENDAR
