BEGIN:VCALENDAR
VERSION:2.0
PRODID:SchoolNow
CALSCALE:GREGORIAN
BEGIN:VEVENT
UID:de1824d8-53e6-11ee-83cd-0ea8776c1f05
DTSTAMP:20230915T164232Z
SUMMARY:PLC Half Day - Liverpool High School
URL;VALUE=URI:https://www.liverpool.k12.ny.us/calendar/4741518/plc-half-day
 -liverpool-high-school
DTSTART;VALUE=DATE:20240214
DTEND;VALUE=DATE:20240215
END:VEVENT
END:VCALENDAR
