BEGIN:VCALENDAR
VERSION:2.0
PRODID:SchoolNow
CALSCALE:GREGORIAN
BEGIN:VEVENT
UID:f035f80c-53e6-11ee-9200-0e6120933f63
DTSTAMP:20230915T164303Z
SUMMARY:Liverpool High School - Early Dismissal (3-15-24)
URL;VALUE=URI:https://www.liverpool.k12.ny.us/calendar/4741519/liverpool-hi
 gh-school-early-dismissal-3-15-24
DTSTART;VALUE=DATE:20240315
DTEND;VALUE=DATE:20240316
END:VEVENT
END:VCALENDAR
