BEGIN:VCALENDAR
VERSION:2.0
PRODID:SchoolNow
CALSCALE:GREGORIAN
BEGIN:VEVENT
UID:a8eefd4e-6eae-11ee-a4fa-02a685b5c405
DTSTAMP:20231019T183813Z
SUMMARY:Capital Project Community Forum (11-7-23) at Morgan Road Middle
LOCATION:Morgan Road Middle
URL;VALUE=URI:https://www.liverpool.k12.ny.us/calendar/4882221/capital-proj
 ect-community-forum-11-7-23-at-morgan-road-middle
DTSTART:20231107T230000Z
DTEND:20231108T010000Z
END:VEVENT
END:VCALENDAR
