BEGIN:VCALENDAR
VERSION:2.0
PRODID:SchoolNow
CALSCALE:GREGORIAN
BEGIN:VEVENT
UID:08ed4354-6eaf-11ee-83fe-02a685b5c405
DTSTAMP:20231019T184054Z
SUMMARY:Capital Project Community Forum (11-13-23) at Long Branch Elementar
 y
LOCATION:Long Branch Elementary
URL;VALUE=URI:https://www.liverpool.k12.ny.us/calendar/4882254/capital-proj
 ect-community-forum-11-13-23-at-long-branch-elementary
DTSTART:20231113T230000Z
DTEND:20231114T010000Z
END:VEVENT
END:VCALENDAR
