BEGIN:VCALENDAR
VERSION:2.0
PRODID:SchoolNow
CALSCALE:GREGORIAN
BEGIN:VEVENT
UID:64f74fdc-6eaf-11ee-ac48-0a58a9feac02
DTSTAMP:20231019T184328Z
SUMMARY:Capital Project Community Forum (11-14-23) at Donlin Drive Elementa
 ry
LOCATION:Donlin Drive Elementary
URL;VALUE=URI:https://www.liverpool.k12.ny.us/calendar/4882268/capital-proj
 ect-community-forum-11-14-23-at-donlin-drive-elementary
DTSTART:20231114T230000Z
DTEND:20231115T010000Z
END:VEVENT
END:VCALENDAR
