BEGIN:VCALENDAR
VERSION:2.0
PRODID:SchoolNow
CALSCALE:GREGORIAN
BEGIN:VEVENT
UID:9ef0b6b0-6eaf-11ee-aeae-0a58a9feac02
DTSTAMP:20231019T184505Z
SUMMARY:Capital Project Community Forum (11-16-23) at Soule Road Middle
LOCATION:Soule Road Middle
URL;VALUE=URI:https://www.liverpool.k12.ny.us/calendar/4882282/capital-proj
 ect-community-forum-11-16-23-at-soule-road-middle
DTSTART:20231116T230000Z
DTEND:20231117T010000Z
END:VEVENT
END:VCALENDAR
