BEGIN:VCALENDAR
VERSION:2.0
PRODID:SchoolNow
CALSCALE:GREGORIAN
BEGIN:VEVENT
UID:1e0837b4-72a4-11ee-9950-0abd035c7d41
DTSTAMP:20231024T193249Z
SUMMARY:ENL Graduation & Community Engagement Event
LOCATION:Chestnut Hill Middle
URL;VALUE=URI:https://www.liverpool.k12.ny.us/calendar/4896670/enl-graduati
 on-community-engagement-event
DTSTART:20231108T230000Z
DTEND:20231109T010000Z
END:VEVENT
END:VCALENDAR
