BEGIN:VCALENDAR
VERSION:2.0
PRODID:SchoolNow
CALSCALE:GREGORIAN
BEGIN:VEVENT
UID:2365e154-72a7-11ee-8a7b-02c2b6a7b9d3
DTSTAMP:20231116T151438Z
SUMMARY:Mascot Community Discussion
LOCATION:Liverpool High School Cafeteria
URL;VALUE=URI:https://www.liverpool.k12.ny.us/calendar/4896684/mascot-commu
 nity-discussion
DTSTART:20231211T230000Z
DTEND:20231212T000000Z
END:VEVENT
END:VCALENDAR
