BEGIN:VCALENDAR
VERSION:2.0
PRODID:SchoolNow
CALSCALE:GREGORIAN
BEGIN:VEVENT
UID:4c7259f6-74d2-11ee-8645-0a58a9feac02
DTSTAMP:20231027T140826Z
SUMMARY:Policy Committee Meeting (12-14-23)
LOCATION:District Office - Superintendent's Conference Room
URL;VALUE=URI:https://www.liverpool.k12.ny.us/calendar/4905270/policy-commi
 ttee-meeting-12-14-23
DTSTART:20231214T210000Z
DTEND:20231214T220000Z
END:VEVENT
END:VCALENDAR
