BEGIN:VCALENDAR
VERSION:2.0
PRODID:SchoolNow
CALSCALE:GREGORIAN
BEGIN:VEVENT
UID:473ae012-ae51-11ee-b03f-0a58a9feac02
DTSTAMP:20240108T181100Z
SUMMARY:LCSD Special Ed Pre-school Transition Workshop
URL;VALUE=URI:https://www.liverpool.k12.ny.us/calendar/5123354/lcsd-special
 -ed-pre-school-transition-workshop
DTSTART:20240108T180900Z
DTEND:20240108T190900Z
END:VEVENT
END:VCALENDAR
