BEGIN:VCALENDAR
VERSION:2.0
PRODID:SchoolNow
CALSCALE:GREGORIAN
BEGIN:VEVENT
UID:83af4d04-ae55-11ee-a955-0ac53249629f
DTSTAMP:20240108T184119Z
SUMMARY:Graduation
LOCATION:NYS Fairgrounds Expo Center
URL;VALUE=URI:https://www.liverpool.k12.ny.us/calendar/5123366/graduation
DTSTART:20240620T220000Z
DTEND:20240620T230000Z
END:VEVENT
END:VCALENDAR
