BEGIN:VCALENDAR
VERSION:2.0
PRODID:SchoolNow
CALSCALE:GREGORIAN
BEGIN:VEVENT
UID:573586b8-ba02-11ee-a152-0ef4428124c5
DTSTAMP:20240123T151611Z
SUMMARY:Board of Education Public Hearing (2-5-24)
URL;VALUE=URI:https://www.liverpool.k12.ny.us/calendar/5198477/board-of-edu
 cation-public-hearing-2-5-24
DTSTART:20240205T224500Z
DTEND:20240205T230000Z
END:VEVENT
END:VCALENDAR
