BEGIN:VCALENDAR
VERSION:2.0
PRODID:SchoolNow
CALSCALE:GREGORIAN
BEGIN:VEVENT
UID:e9d13472-ba02-11ee-9976-0a58a9feac02
DTSTAMP:20240123T152017Z
SUMMARY:Capital Project Vote (3-14-24)
LOCATION:Wetzel Road School
URL;VALUE=URI:https://www.liverpool.k12.ny.us/calendar/5198480/capital-proj
 ect-vote-3-14-24
DTSTART:20240314T100000Z
DTEND:20240315T010000Z
END:VEVENT
END:VCALENDAR
