BEGIN:VCALENDAR
VERSION:2.0
PRODID:SchoolNow
CALSCALE:GREGORIAN
BEGIN:VEVENT
UID:1ba57fda-ba03-11ee-84b4-0a58a9feac02
DTSTAMP:20240123T152140Z
SUMMARY:Voter Registration Day
LOCATION:District Office
URL;VALUE=URI:https://www.liverpool.k12.ny.us/calendar/5198481/voter-regist
 ration-day
DTSTART:20240307T140000Z
DTEND:20240307T210000Z
END:VEVENT
END:VCALENDAR
