BEGIN:VCALENDAR
VERSION:2.0
PRODID:SchoolNow
CALSCALE:GREGORIAN
BEGIN:VEVENT
UID:5b2011c0-ba03-11ee-bd29-0a58a9feac02
DTSTAMP:20240123T152327Z
SUMMARY:Capital Project Public Hearing (3-6-24)
LOCATION:District Office
URL;VALUE=URI:https://www.liverpool.k12.ny.us/calendar/5198482/capital-proj
 ect-public-hearing-3-6-24
DTSTART:20240306T223000Z
DTEND:20240306T233000Z
END:VEVENT
END:VCALENDAR
