BEGIN:VCALENDAR
VERSION:2.0
PRODID:SchoolNow
CALSCALE:GREGORIAN
BEGIN:VEVENT
UID:0b2e4194-bc85-11ee-a86a-0a58a9feac02
DTSTAMP:20240126T203947Z
SUMMARY:NYS Testing: ELA Session 2 (Grades 6\, 7 & 8)
URL;VALUE=URI:https://www.liverpool.k12.ny.us/calendar/5213611/nys-testing-
 ela-session-2-grades-6-7-8
DTSTART;VALUE=DATE:20240412
DTEND;VALUE=DATE:20240413
END:VEVENT
END:VCALENDAR
