BEGIN:VCALENDAR
VERSION:2.0
PRODID:SchoolNow
CALSCALE:GREGORIAN
BEGIN:VEVENT
UID:3d6f819a-bc85-11ee-810f-0245c65b812d
DTSTAMP:20240126T204047Z
SUMMARY:NYS Testing: ELA Session 1 (Grades 3 & 4)
URL;VALUE=URI:https://www.liverpool.k12.ny.us/calendar/5213616/nys-testing-
 ela-session-1-grades-3-4
DTSTART;VALUE=DATE:20240415
DTEND;VALUE=DATE:20240416
END:VEVENT
END:VCALENDAR
