BEGIN:VCALENDAR
VERSION:2.0
PRODID:SchoolNow
CALSCALE:GREGORIAN
BEGIN:VEVENT
UID:7ee6aebe-bc85-11ee-9d2a-02cf6acdefa3
DTSTAMP:20240126T204128Z
SUMMARY:NYS Testing: ELA Session 2 (Grades 3 & 4)
URL;VALUE=URI:https://www.liverpool.k12.ny.us/calendar/5213622/nys-testing-
 ela-session-2-grades-3-4
DTSTART;VALUE=DATE:20240416
DTEND;VALUE=DATE:20240417
END:VEVENT
END:VCALENDAR
