BEGIN:VCALENDAR
VERSION:2.0
PRODID:SchoolNow
CALSCALE:GREGORIAN
BEGIN:VEVENT
UID:386921ea-bc87-11ee-9f71-02cf6acdefa3
DTSTAMP:20240126T204306Z
SUMMARY:NYS Testing: Math Session 1 (Grades 5\, 6\, 7\, and 8)
URL;VALUE=URI:https://www.liverpool.k12.ny.us/calendar/5213654/nys-testing-
 math-session-1-grades-5-6-7-and-8
DTSTART;VALUE=DATE:20240506
DTEND;VALUE=DATE:20240507
END:VEVENT
END:VCALENDAR
