BEGIN:VCALENDAR
VERSION:2.0
PRODID:SchoolNow
CALSCALE:GREGORIAN
BEGIN:VEVENT
UID:e4e10adc-bc87-11ee-b40a-0aac24e4ed8f
DTSTAMP:20240126T204243Z
SUMMARY:NYS Testing: Math Session 1 (Grades 3 & 4)
URL;VALUE=URI:https://www.liverpool.k12.ny.us/calendar/5213673/nys-testing-
 math-session-1-grades-3-4
DTSTART;VALUE=DATE:20240508
DTEND;VALUE=DATE:20240509
END:VEVENT
END:VCALENDAR
