BEGIN:VCALENDAR
VERSION:2.0
PRODID:SchoolNow
CALSCALE:GREGORIAN
BEGIN:VEVENT
UID:990efcee-bc88-11ee-82a2-0aac24e4ed8f
DTSTAMP:20240126T204445Z
SUMMARY:NYS Testing: Math Session 2 (Grades 3 & 4)
URL;VALUE=URI:https://www.liverpool.k12.ny.us/calendar/5213688/nys-testing-
 math-session-2-grades-3-4
DTSTART;VALUE=DATE:20240509
DTEND;VALUE=DATE:20240510
END:VEVENT
END:VCALENDAR
