BEGIN:VCALENDAR
VERSION:2.0
PRODID:SchoolNow
CALSCALE:GREGORIAN
BEGIN:VEVENT
UID:05834d6c-bc89-11ee-bc4e-0e344c2ccefb
DTSTAMP:20240126T204515Z
SUMMARY:NYS Testing: Math Make-Ups (Grades 3-8) 5-10-24
URL;VALUE=URI:https://www.liverpool.k12.ny.us/calendar/5213713/nys-testing-
 math-make-ups-grades-3-8-5-10-24
DTSTART;VALUE=DATE:20240510
DTEND;VALUE=DATE:20240511
END:VEVENT
END:VCALENDAR
