BEGIN:VCALENDAR
VERSION:2.0
PRODID:SchoolNow
CALSCALE:GREGORIAN
BEGIN:VEVENT
UID:7a8bc26a-bc89-11ee-a403-0aebd184523d
DTSTAMP:20240126T204531Z
SUMMARY:NYS Testing: CBT Science Assessment (Grades 5 & 8) 5-13-24
URL;VALUE=URI:https://www.liverpool.k12.ny.us/calendar/5213776/nys-testing-
 cbt-science-assessment-grades-5-8-5-13-24
DTSTART;VALUE=DATE:20240513
DTEND;VALUE=DATE:20240514
END:VEVENT
END:VCALENDAR
