BEGIN:VCALENDAR
VERSION:2.0
PRODID:SchoolNow
CALSCALE:GREGORIAN
BEGIN:VEVENT
UID:a602f314-bc89-11ee-8cdb-0e714ff5b093
DTSTAMP:20240126T204547Z
SUMMARY:NYS Testing: CBT Science Assessment (Grades 5 & 8) 5-14-24
URL;VALUE=URI:https://www.liverpool.k12.ny.us/calendar/5213791/nys-testing-
 cbt-science-assessment-grades-5-8-5-14-24
DTSTART;VALUE=DATE:20240514
DTEND;VALUE=DATE:20240515
END:VEVENT
END:VCALENDAR
