BEGIN:VCALENDAR
VERSION:2.0
PRODID:SchoolNow
CALSCALE:GREGORIAN
BEGIN:VEVENT
UID:edcc0032-bc89-11ee-8e34-0ac1382b75ff
DTSTAMP:20240126T204616Z
SUMMARY:NYS Testing: CBT Science Assessment Make-Ups (Grades 5 & 8) 5-16-24
URL;VALUE=URI:https://www.liverpool.k12.ny.us/calendar/5213900/nys-testing-
 cbt-science-assessment-make-ups-grades-5-8-5-16-24
DTSTART;VALUE=DATE:20240516
DTEND;VALUE=DATE:20240517
END:VEVENT
END:VCALENDAR
