BEGIN:VCALENDAR
VERSION:2.0
PRODID:SchoolNow
CALSCALE:GREGORIAN
BEGIN:VEVENT
UID:2452f14c-bc8a-11ee-893e-0efca7479bb7
DTSTAMP:20240126T204633Z
SUMMARY:NYS Testing: CBT Science Assessment Make-Ups (Grades 5 & 8) 5-17-24
URL;VALUE=URI:https://www.liverpool.k12.ny.us/calendar/5213932/nys-testing-
 cbt-science-assessment-make-ups-grades-5-8-5-17-24
DTSTART;VALUE=DATE:20240517
DTEND;VALUE=DATE:20240518
END:VEVENT
END:VCALENDAR
