BEGIN:VCALENDAR
VERSION:2.0
PRODID:SchoolNow
CALSCALE:GREGORIAN
BEGIN:VEVENT
UID:732c51dc-bc8a-11ee-a6ec-0a58a9feac02
DTSTAMP:20240313T195524Z
SUMMARY:New York State Alternative Assessment Window
URL;VALUE=URI:https://www.liverpool.k12.ny.us/calendar/5213949/new-york-sta
 te-alternative-assessment-window
DTSTART:20231214T193400Z
DTEND:20240311T203400Z
END:VEVENT
END:VCALENDAR
