BEGIN:VCALENDAR
VERSION:2.0
PRODID:SchoolNow
CALSCALE:GREGORIAN
BEGIN:VEVENT
UID:b4c77fec-d71d-11ee-abba-02843e9faf8f
DTSTAMP:20240229T161508Z
SUMMARY:Board of Education Meeting (3-6-24)
LOCATION:District Office Board Room
URL;VALUE=URI:https://www.liverpool.k12.ny.us/calendar/5431628/board-of-edu
 cation-meeting-3-6-24
DTSTART:20240306T230000Z
DTEND:20240307T030000Z
END:VEVENT
END:VCALENDAR
