BEGIN:VCALENDAR
VERSION:2.0
PRODID:SchoolNow
CALSCALE:GREGORIAN
BEGIN:VEVENT
UID:12089552-e550-11ee-ae5f-0a58a9feac02
DTSTAMP:20240318T175055Z
SUMMARY:Autism & Neurodiversity Night at LHS
LOCATION:Liverpool High School
URL;VALUE=URI:https://www.liverpool.k12.ny.us/calendar/5574327/autism-neuro
 diversity-night-at-lhs
DTSTART:20240416T213000Z
DTEND:20240416T233000Z
END:VEVENT
END:VCALENDAR
