BEGIN:VCALENDAR
VERSION:2.0
PRODID:SchoolNow
CALSCALE:GREGORIAN
BEGIN:VEVENT
UID:79166f6a-f1f0-11ee-8e09-0a58a9feac02
DTSTAMP:20240403T192922Z
SUMMARY:Policy Committee Meeting (5-30-24)
LOCATION:District Office Board Room
URL;VALUE=URI:https://www.liverpool.k12.ny.us/calendar/5701492/policy-commi
 ttee-meeting-5-30-24
DTSTART:20240530T200000Z
DTEND:20240530T210000Z
END:VEVENT
END:VCALENDAR
