BEGIN:VCALENDAR
VERSION:2.0
PRODID:SchoolNow
CALSCALE:GREGORIAN
BEGIN:VEVENT
UID:04abba66-f2ab-11ee-b027-0298559d8827
DTSTAMP:20240404T174442Z
SUMMARY:Family & Community Event: Exploring the Influence of News and Socia
 l Media on Student Mental Well Being
URL;VALUE=URI:https://www.liverpool.k12.ny.us/calendar/5708052/family-commu
 nity-event-exploring-the-influence-of-news-and-social-media-on-student-men
 tal-well-being
DTSTART:20240501T210000Z
DTEND:20240501T233000Z
END:VEVENT
END:VCALENDAR
