BEGIN:VCALENDAR
VERSION:2.0
PRODID:SchoolNow
CALSCALE:GREGORIAN
BEGIN:VEVENT
UID:58a496dc-0319-11ef-ae6d-0ebd0afc2d01
DTSTAMP:20240425T153446Z
SUMMARY:Professional Development Day (K-8) - School Closed (6-25-24)
URL;VALUE=URI:https://www.liverpool.k12.ny.us/calendar/5856121/professional
 -development-day-k-8-school-closed-6-25-24
DTSTART;VALUE=DATE:20240625
DTEND;VALUE=DATE:20240626
END:VEVENT
END:VCALENDAR
